Workbook

Sheet COVER

Sheet INTRODUCTION
F1: Table of Contents | G1: Material Topics | H1: Environmental | I1: Economic | J1: Governance | K1: Social | L1: GRI | M1: SASB
C3: 2025 Indicators Hub
A4: Índice | B4: 3
C5: What is the indicators hub?
C7: The indicators hub is a strategic tool that organizes and communicates data on the company's financial, environmental, social, and governance performance that comply with international standards like the GRI (Global Reporting Initiative) and the SASB (Sustainability Accounting Standards Board). These standards help identify and report the material topics most relevant to the company and its stakeholders, ensuring that the data presented is clear and can be used for comparisons. Adopting the GRI standard allows Braskem to address a wide range of indicators, including water consumption, greenhouse gas emissions, use of renewable energy, health and safety practices at work, waste management, business ethics, and human rights. This standard also supports an integrated view of the company's environmental and social impact. The SASB adds to this report by prioritizing information that is financially material to investors and relevant for managing risks and opportunities in the long term.
C8: As a petrochemical company, Braskem uses SASB sector-specific indicators, including managing air emissions, efficient resource utilization, and safety practices in the production environment, which are critical issues for chemical companies. This integrated approach emphasizes Braskem's commitment to sustainability and transparency, helping the company effectively communicate how it creates value and responds to social and environmental challenges. It strengthens the credibility of information, aligns company goals with the Sustainable Development Goals (SDGs), and supports data-driven decision-making to promote sustainable and responsible growth. For more information, check our 2025 integrated report:
C9: 2025 INTEGRATED REPORT

Sheet TABLE OF CONTENTS
B1: #VALUE! | F1: Table of Contents | G1: Material Topics | H1: Environmental | I1: Economic | J1: Governance | K1: Social | L1: GRI | M1: SASB
C3: 2025 Indicators Hub
A4: Índice | B4: 3
C5: Table of Contents
C7: Material Topics
C8: Material topics are the most relevant issues for a company, as they significantly impact its operations and are of interest to its stakeholders.
C9: Economic
C10: Economic indicators are measures that assess the health and performance of economic aspects within a company. They monitor economic growth, guide policies, and predict future trends.
C12: Environmental
C13: Environmental indicators are metrics that provide information about both the state and trends of the impact on and management of the environment within a company. They help monitor environmental quality, assess the impacts of human activities, and shape environmental management policies. Some examples of what environmental indicators assess include air quality, water, biodiversity, and greenhouse gas emissions.
C15: Governance
C16: Companies use governance indicators to assess the effectiveness of management and decision-making processes, ensuring transparency, accountability, and compliance with laws and regulations. This includes metrics related to the corporate governance structure, which include the composition of the board of directors, independence of executive officers, information disclosure policies, regulatory compliance, business ethics, and risk management.
C18: Social
C19: Social indicators in a company are metrics that assess the organization's impact and contribution to social well-being and development. They cover areas such as social responsibility, diversity, working conditions, and social investment. These indicators are important to measure the company's social performance and its contribution to society.
C21: GRI
... C25: The Sustainability Accounting Standards Board (SASB) is a non-profit organization that creates and establishes sustainable accounting standards to help companies report financial information on environmental, social and governance (ESG) issues. SASB standards are designed to provide specific guidance for individual industries by identifying the most relevant and materially important metrics for each sector. This allows companies to communicate their ESG performance to investors in a consistent and comparable manner, facilitating the analysis of risks and opportunities related to sustainability.

Sheet MATERIAL TOPICS
B1: #VALUE! | F1: =INTRODUCTION!F1 -> Table of Contents | G1: =INTRODUCTION!G1 -> Material Topics | H1: =INTRODUCTION!H1 -> Environmental | I1: =INTRODUCTION!I1 -> Economic | J1: =INTRODUCTION!J1 -> Governance | K1: Social | L1: GRI | M1: SASB
C3: 2025 Indicators Hub
A4: Índice | B4: 3
C5: Material Topics
C7: Sustainability | G7: Material Topic | J7: GRI Indicators | M7: SASB Indicators
C9: Environmental | G9: Biodiversity and land use | I9: 3-3|101-1|101-2|101-3|101-4|101-5|101-6|101-7|101-8 | M9: EM-MD-160a.1|EM-MD-160a.2|EM-MD-160a.3
C11: Environmental | G11: Climate Change | I11: 3-3|201-2|305-1|305-2|305-3|305-4|305-5|305-6|305-7 | M11: RT-CH-110a.1|RT-CH-110a.2|EM-MD-110a.1|EM-MD-110a.2
C13: Environmental | G13: Post-consumer plastics | I13: 3-3|301-2|301-3
C15: Environmental | G15: Air pollution | I15: 3-3|305-1|305-2|305-3|305-4|305-5|305-6|305-7 | M15: RT-CH-120a.1|EM-MD-120a.1
C17: Environmental | G17: Energy efficiency | I17: 3-3|302-1|302-2|302-3|302-4 | M17: RT-CH-130a.1
C19: Environmental | G19: Waste management | I19: 3-3|301-1|301-2|301-3|306-1|306-2|306-3|306-4|306-5 | M19: RT-CH-150a.1
C21: Environmental | G21: Water and effluent management | I21: 3-3|303-1|303-2|303-3|303-4|303-5 | M21: RT-CH-140a.1|RT-CH-140a.2|RT-CH-140a.3
C23: Environmental | G23: Impacts of raw materials | I23: 3-3|301-1|301-2|301-3
C25: Social | G25: Diversity, equality and inclusion | I25: 3-3|405-1|405-2|406-1
C27: Social | G27: Communities and social investments | I27: 3-3|413-1|413-2 | M27: RT-CH-210a.1
C29: Social | G29: Health, safety and well-being | I29: 3-3|403-1|403-2|403-3|403-4|403-5|403-6|403-7|403-8|403-9|403-10 | M29: RT-CH-320a.1|RT-CH-320a.2|RT-CH-540a.1|RT-CH-540a.2
C31: Social | G31: Human rights | I31: 3-3|401-3|406-1|407-1|408-1|409-1|410-1
C33: Social | G33: Employment, development and retention | I33: 3-3|2-30|201-3|202-1|202-2|401-1|401-2|401-3|402-1|404-1|404-2|404-3
C35: Economic | G35: Responsible production and consumption | I35: 3-3|204-1|308-1|308-2|414-1
C37: Economic | G37: Innovation, technology and digitalization | M37: RT-CH-410a.1
C39: Economic | G39: Economic and financial performance | I39: 3-3|201-1|201-2|201-3|201-4|203-1|203-2|207-1|207-2|207-3|207-4 | M39: RT-CH-000.A|EM-MD-520a.1
C41: Economic | G41: Product stewardship | I41: 416-1|416-2|417-1|417-2|417-3 | M41: RT-CH-410b.1|RT-CH-410b.2|RT-CH-410c.1
C43: Economic | G43: Supplier management | I43: 3-3|204-1|308-1|308-2|414-1
C45: Governance | G45: Risk and opportunity management | I45: 2-6|3-3|2-12|2-13|2-14|2-18|2-24|205-1|207-1|207-2|207-4|408-1|409-1 | M45: RT-CH-530a.1
C47: Governance | G47: Stakeholder management | I47: 2-3|2-4|2-5|2-7|2-8|2-17|2-23|2-24|2-25|2-28|2-29|2-30|205-2|207-3
C49: Governance | G49: Governance, ethics and compliance | I49: 2-1|2-2|2-9|2-10|2-11|2-12|2-13|2-14|2-15|2-16|2-17|2-18|2-22|2-26|2-27|3-3| 205-1|205-2|205-3|206-1|207-2|415-1|418-1

Sheet ENVIRONMENTAL
B1: #VALUE! | F1: =INTRODUCTION!F1 -> Table of Contents | G1: =INTRODUCTION!G1 -> Material Topics | H1: =INTRODUCTION!H1 -> Environmental | I1: =INTRODUCTION!I1 -> Economic | J1: =INTRODUCTION!J1 -> Governance | K1: Social | L1: GRI | M1: SASB
C3: 2025 Indicators Hub
A4: Índice | B4: 3
D5: Environmental
C7: Indicator | F7: Indicator title
C9: 101-1 | F9: Policies to halt and reverse biodiversity loss
C11: 101-2 | F11: Management of biodiversity impacts
C13: 101-3 | F13: Access and benefit-sharing
C15: 101-4 | F15: Identification of biodiversity impacts
C17: 101-5 | F17: Locations with biodiversity impacts
C19: 101-6 | F19: Direct drivers of biodiversity loss
C21: 101-7 | F21: Changes to the state of biodiversity
C23: 101-8 | F23: Ecosystem services
C25: 301-1 | F25: Materials used by weight or volume
C27: 301-2 | F27: Recycled input materials used
C29: 301-3 | F29: Reclaimed products and their packaging materials
... C75: 308-2 | F75: Negative environmental impacts in the supply chain and actions taken
C77: EM-MD-110a.1 | E77: Gross global Scope 1 emissions, percentage covered under emissions-limiting regulations
C79: EM-MD-110a.2 | E79: Discussion of long-term and short-term strategy or plan to manage Scope 1 emissions, emissions reduction targets, and an analysis of performance against those targets
C81: EM-MD-120a.1 | E81: Air emissions of the following pollutants: (1) NOx (excluding N2O), (2) SOx, (3) volatile organic compounds (VOCs), and (4) particulate matter (PM10)
C83: EM-MD-160a.1 | E83: Description of environmental management policies and practices
C85: EM-MD-160a.2 | E85: Percentage of land owned, leased, and/or operated in areas with protected conservation status or habitat of endangered species
C87: EM-MD-160a.3 | E87: Disturbed land area, percentage of impacted area restored
C89: RT-CH-110a.1 | E89: Gross global Scope 1 emissions, percentage covered under emissions-limiting regulations
C91: RT-CH-110a.2 | E91: Discussion of long-term and short-term strategy or plan to manage Scope 1 emissions, emissions reduction targets, and an analysis of performance against those targets
C93: RT-CH-120a.1 | E93: Air emissions of the following pollutants: (1) NOx (excluding N2O), (2) SOx, (3) volatile organic compounds (VOCs), and (4) hazardous air pollutants (HAPs)
C95: RT-CH-130a.1 | E95: (1) Total energy consumed, (2) percentage grid electricity, (3) percentage renewable, (4) total self-generated energy
C97: RT-CH-140a.1 | E97: Total water withdrawn, (2) total water consumed, percentage of each in regions with high or extremely high baseline water stress
C99: RT-CH-140a.2 | E99: Number of incidents of non-compliance associated with water quality permits, standards, and regulations
... C103: RT-CH-150a.1 | E103: Amount of hazardous waste generated, percentage recycled

Sheet ECONOMIC
B1: #VALUE! | F1: =INTRODUCTION!F1 -> Table of Contents | G1: =INTRODUCTION!G1 -> Material Topics | H1: =INTRODUCTION!H1 -> Environmental | I1: =INTRODUCTION!I1 -> Economic | J1: =INTRODUCTION!J1 -> Governance | K1: Social | L1: GRI | M1: SASB
C3: 2025 Indicators Hub
A4: Índice | B4: 3
D5: Economic
C7: Indicator | G7: Indicator title
C9: 201-1 | G9: Direct economic value generated and distributed
C11: 201-2 | G11: Financial implications and other risks and opportunities due to climate change
C13: 201-3 | G13: Defined benefit plan obligations and other retirement plans
C15: 201-4 | G15: Financial assistance received from the government
C17: 202-1 | G17: Ratios of standard entry-level wage by gender compared to local minimum wage
C19: 202-2 | G19: Proportion of senior management hired from the local community
C21: 203-1 | G21: Infrastructure investments and services supported
C23: 203-2 | G23: Significant indirect economic impacts
C25: 204-1 | G25: Proportion of spending on local suppliers
C27: 205-1 | G27: Operations assessed for risks related to corruption
C29: 205-2 | G29: Communication and training about anti-corruption policies and procedures
... C53: RT-CH-410c.1 | G53: Percentage of products by revenue that contain genetically modified organisms (GMOs)

Sheet GOVERNANCE
B1: #VALUE! | F1: =INTRODUCTION!F1 -> Table of Contents | G1: =INTRODUCTION!G1 -> Material Topics | H1: =INTRODUCTION!H1 -> Environmental | I1: =INTRODUCTION!I1 -> Economic | J1: =INTRODUCTION!J1 -> Governance | K1: Social | L1: GRI | M1: SASB
C3: 2025 Indicators Hub
A4: Índice | B4: 3
D5: Governance
C7: Indicator | G7: Indicator title
C9: 2-1 | G9: Organizational details
C11: 2-2 | G11: Entities included in the organization's sustainability report
C13: 2-3 | G13: Reporting period, frequency and contact point
C15: 2-4 | G15: Restatements of information
C17: 2-5 | G17: External assurance
C19: 2-6 | G19: Activities, value chain and other business relationships
C21: 2-7 | G21: Employees
C23: 2-8 | G23: Workers who are not employees
C25: 2-9 | G25: Governance structure and composition
C27: 2-10 | G27: Nomination and selection of the highest governance body
C29: 2-11 | G29: Chair of the highest governance body
... C69: RT-CH-530a.1 | G69: Discussion of corporate positions related to government regulations and/or policy proposals that address environmental and social factors affecting the industry

Sheet SOCIAL
B1: #VALUE! | F1: =INTRODUCTION!F1 -> Table of Contents | G1: =INTRODUCTION!G1 -> Material Topics | H1: =INTRODUCTION!H1 -> Environmental | I1: =INTRODUCTION!I1 -> Economic | J1: =INTRODUCTION!J1 -> Governance | K1: Social | L1: GRI | M1: SASB
C3: 2025 Indicators Hub
A4: Índice | B4: 3
D5: Social
C7: Indicator | G7: Indicator title
C9: 401-1 | G9: New employee hires and employee turnover
C11: 401-2 | G11: Benefits provided to full-time employees that are not provided to temporary or part-time employees
C13: 401-3 | G13: Parental leave
C15: 402-1 | G15: Minimum notice periods for operational changes
C17: 403-1 | G17: Occupational health and safety management system
C19: 403-2 | G19: Hazard identification, risk assessment and incident investigation
C21: 403-3 | G21: Occupational health services
C23: 403-4 | G23: Worker participation, consultation, and communication on occupational health and safety
C25: 403-5 | G25: Worker training on occupational health and safety
C27: 403-6 | G27: Promotion of worker health
C29: 403-7 | G29: Prevention and mitigation of occupational health and safety impacts directly linked by business relationships
... C85: RT-CH-540a.2 | G85: Number of transport incidents

Sheet GRI
B1: #VALUE! | F1: =INTRODUCTION!F1 -> Table of Contents | G1: =INTRODUCTION!G1 -> Material Topics | H1: =INTRODUCTION!H1 -> Environmental | I1: =INTRODUCTION!I1 -> Economic | J1: =INTRODUCTION!J1 -> Governance | K1: Social | L1: GRI | M1: SASB
C3: 2025 Indicators Hub
A4: Índice | B4: 3
D5: GRI Index | Global Reporting Inicative
C7: Indicator | F7: Indicator title
C9: 2-1 | F9: Organizational details
C11: 2-2 | F11: Entities included in the organization's sustainability report
C13: 2-3 | F13: Reporting period, frequency and contact point
C15: 2-4 | F15: Restatements of information
C17: 2-5 | F17: External assurance
C19: 2-6 | F19: Activities, value chain and other business relationships
C21: 2-7 | F21: Employees
C23: 2-8 | F23: Workers who are not employees
C25: 2-9 | F25: Governance structure and composition
C27: 2-10 | F27: Nomination and selection of the highest governance body
C29: 2-11 | F29: Chair of the highest governance body
... C244: 418-1 | F244: Substantiated complaints concerning breaches of customer privacy and losses of customer data

Sheet SASB
B1: #VALUE! | F1: =INTRODUCTION!F1 -> Table of Contents | G1: =INTRODUCTION!G1 -> Material Topics | H1: =INTRODUCTION!H1 -> Environmental | I1: =INTRODUCTION!I1 -> Economic | J1: =INTRODUCTION!J1 -> Governance | K1: Social | L1: GRI | M1: SASB
C3: 2025 Indicators Hub
A4: Índice | B4: 3
D5: SASB Index | Sustainability Accounting Standards Board
C7: Indicator | F7: Indicator title
C9: RT-CH-000.A | F9: Production by reported segment
C11: RT-CH-110a.1 | F11: Gross global Scope 1 emissions, percentage covered under emissions-limiting regulations
C13: RT-CH-110a.2 | F13: Discussion of long-term and short-term strategy or plan to manage Scope 1 emissions, emissions reduction targets, and an analysis of performance against those targets
C15: RT-CH-120a.1 | F15: Air emissions of the following pollutants: (1) NOx (excluding N2O), (2) SOx, (3) volatile organic compounds (VOCs), and (4) hazardous air pollutants (HAPs)
C17: RT-CH-130a.1 | F17: (1) Total energy consumed, (2) percentage grid electricity, (3) percentage renewable, (4) total self-generated energy
C19: RT-CH-140a.1 | F19: Total water withdrawn, (2) total water consumed, percentage of each in regions with high or extremely high baseline water stress
C21: RT-CH-140a.2 | F21: Number of incidents of non-compliance associated with water quality permits, standards, and regulations
C23: RT-CH-140a.3 | F23: Description of water management risks and discussion of strategies and practices to mitigate those risks
C25: RT-CH-150a.1 | F25: Amount of hazardous waste generated, percentage recycled
C27: RT-CH-210a.1 | F27: Discussion of engagement processes to manage risks and opportunities associated with community interests
C29: RT-CH-320a.1 | F29: (1) Total recordable incident rate (TRIR) and (2) fatality rate for (a) direct employees and (b) third-party employees
... C59: EM-MD-520a.1 | F59: Total amount of monetary losses as a result of legal proceedings associated with federal pipeline and storage regulations

Sheet 2-1 à 2-6
B1: #VALUE! | F1: =INTRODUCTION!F1 -> Table of Contents | G1: =INTRODUCTION!G1 -> Material Topics | H1: =INTRODUCTION!H1 -> Environmental | I1: =INTRODUCTION!I1 -> Economic | J1: =INTRODUCTION!J1 -> Governance | K1: Social | L1: GRI | M1: SASB
C3: GRI 2-1 to 2-6 | General Disclosures
A4: Índice | B4: 3
C5: 2-1 Organizational details
C7: 2-1a. Legal name
C8: Braskem S.A
C10: 2-1b. Corporate structure and legal form
C11: Braskem is a publicly traded company and has been part of Level 1 Corporate Governance of the São Paulo Stock Exchange (BM&F Bovespa) since 2003. Currently, the company’s main shareholders are the Novonor group – under judicial reorganization – and Petrobras. The company also has part of its shares listed on B3, the New York Stock Exchange (NYSE), and Latibex – the Latin American segment of the Madrid Stock Exchange – which provides greater liquidity for shareholders.
C15: 2-1c. Location of the headquarters
C16: Municipality of Camaçari, State of Bahia.
C18: 2-1d. Countries of operation
C19: Industrial operations in Brazil, the United States, Mexico, and Europe. Commercial offices in Brazil, Colombia, Chile, Peru, Argentina, the United States, Mexico, the Netherlands, and Singapore. A representative office in Japan.
C21: 2-2 Entities included in the organization's sustainability reporting
C23: 2-2a. Entities included in its sustainability reporting 2-2b. If the organization has audited consolidated financial statements or financial information filed on public record, specify the differences between the list of entities included in its financial reporting and the list included in its sustainability reporting 2-2c. If the organization consists of multiple entities, explain the approach used for consolidating the information
C24: Braskem S.A. is a publicly traded company governed by Brazilian law, with shares listed on B3, the NYSE, and Latibex, an administrative headquarters in Camaçari (Brazil), and global operations across four continents. The document was prepared with the participation of executives and board members, in accordance with the Integrated Reporting Framework (IR), and complies with the requirements of the GRI, SASB, the Brazilian GHG Protocol Program, and the WBCSD. The Report is in compliance with CVM Resolution No. 14/2020 and was approved by the governance bodies, including the Board of Directors. It also underwent external limited assurance conducted by KPMG. The publication covers the period from January 1 to December 31, 2025, and includes entities under operational control and/or consolidated in the Financial Statements, except for Wise Plásticos S.A. with respect to social and environmental indicators. Greenhouse gas (GHG) emissions data consider only controlled companies, in line with the Brazilian GHG Protocol Program, which assigns 100% of emissions to units under operational control and excludes emissions from minority shareholdings. The Indicators Center follows the same scope of entities as the Integrated Report.
... C65: In 2021, Braskem Idesa gave the approval for and commenced the project to construct an ethane import terminal in Mexico with a capacity of up to 80,000 barrels of ethane per day, which will enable Braskem Idesa to operate at up to 100% of its production capacity. That same year, a Joint-Venture was formed between Braskem Idesa and Advario through the subsidiary Terminal Químico Puerto México ("TQPM"), with a 50% stake for each shareholder. The purpose of the terminal is to supplement the supply of hydrocarbons in Mexico and provide additional ethane to Braskem Idesa to operate at its full capacity, increasing the availability of gas and the competitiveness of the entire Mexican petrochemical and plastics industry. The project was completed and began operations in 2025. More information can be found in the chapter “Strategic Pillars” under “Productivity and Competitiveness”.

Sheet 2-7
B1: #VALUE! | F1: Table of Contents | G1: Material topics | H1: Environmental | I1: Economic | J1: Governance | K1: Social | L1: GRI | M1: SASB
C3: GRI 2-7 | General Disclosures
A4: Índice | B4: 3
C5: 2-7 Employees
C7: 2-7a. Total number of employees, and a breakdown of this total by gender and by region | H7: 2019 | I7: 2020 | J7: 2021 | K7: 2022 | L7: 2023 | M7: 2024 | N7: 2025
C10: Total | H10: 7940 | I10: 7993 | J10: 8312 | K10: 8668 | L10: 8569 | M10: 8382 | N10: 8233
C11: Men | H11: 6121 | I11: 6097 | J11: 6239 | K11: 6429 | L11: 6307 | M11: 6158 | N11: 6054
C12: Women | H12: 1819 | I12: 1896 | J12: 2073 | K12: 2239 | L12: 2262 | M12: 2224 | N12: 2179
C14: Brazil | H14: 6050 | I14: 6088 | J14: 6278 | K14: 6493 | L14: 6419 | M14: 6291 | N14: 6277
C15: Men | H15: 4681 | I15: 4648 | J15: 4696 | K15: 4813 | L15: 4733 | M15: 4630 | N15: 4602
C16: Women | H16: 1369 | I16: 1440 | J16: 1582 | K16: 1680 | L16: 1686 | M16: 1661 | N16: 1675
C18: Germany | H18: 196 | I18: 151 | J18: 155 | K18: 172 | L18: 178 | M18: 180 | N18: 166
C19: Men | H19: 120 | I19: 107 | J19: 110 | K19: 120 | L19: 126 | M19: 130 | N19: 118
C20: Women | H20: 76 | I20: 44 | J20: 45 | K20: 52 | L20: 52 | M20: 50 | N20: 48
C22: United States | H22: 765 | I22: 764 | J22: 758 | K22: 831 | L22: 817 | M22: 816 | N22: 783
C23: Men | H23: 619 | I23: 615 | J23: 599 | K23: 642 | L23: 627 | M23: 622 | N23: 605
... C92: Women | H92: 0 | I92: 0 | J92: 13 | K92: 0 | L92: 1 | M92: 0 | N92: 0
C94: 2-7b.iii. Employees with zero-hour contracts
C95: Not applicable. Braskem does not have non-guaranteed hourly employment contracts.
C97: 2-7b.iv. Full-time employees, broken down by gender and by region | H97: 2019 | I97: 2020 | J97: 2021 | K97: 2022 | L97: 2023 | M97: 2024 | N97: 2025
C99: Total | H99: 7918 | I99: 7979 | J99: 8300 | K99: 8665 | L99: 8559 | M99: 8369 | N99: 8207
C101: Brazil | H101: 6041 | I101: 6084 | J101: 6277 | K101: 6490 | L101: 6410 | M101: 6279 | N101: 6264
C102: Men | H102: 4676 | I102: 4646 | J102: 4695 | K102: 4811 | L102: 4730 | M102: 4623 | N102: 4595
C103: Women | H103: 1365 | I103: 1438 | J103: 1582 | K103: 1679 | L103: 1680 | M103: 1656 | N103: 1669
C105: Germany | H105: 191 | I105: 143 | J105: 149 | K105: 168 | L105: 178 | M105: 179 | N105: 156
C106: Men | H106: 121 | I106: 102 | J106: 106 | K106: 117 | L106: 126 | M106: 130 | N106: 114
C107: Women | H107: 70 | I107: 41 | J107: 43 | K107: 51 | L107: 52 | M107: 49 | N107: 42
C109: United States | H109: 757 | I109: 762 | J109: 756 | K109: 831 | L109: 817 | M109: 816 | N109: 783
C110: Men | H110: 613 | I110: 615 | J110: 598 | K110: 642 | L110: 627 | M110: 622 | N110: 605
C111: Women | H111: 144 | I111: 147 | J111: 158 | K111: 189 | L111: 190 | M111: 194 | N111: 178
C113: Mexico | H113: 830 | I113: 831 | J113: 939 | K113: 963 | L113: 922 | M113: 871 | N113: 797
... C150: Women | H150: 0 | I150: 0 | J150: 0 | K150: 0 | L150: 0 | M150: 0 | N150: 0
C152: 2-7c. Describe the methodologies and assumptions used to compile the data, including whether the numbers are reported
C153: The calculation of the Braskem Global headcount is based on people from the Connect system, excluding employees on leave due to Disability, Unpaid leave and Long-Term Leave. In Brazil, the calculation includes active employees and apprentices, excluding internship positions. For other countries, only active employees are considered, excluding internship positions. Regarding contract types in Brazil, there are employees on fixed-term contracts (15 employees and 13 apprentices). Employees with a workweek of 30 hours or less (13 apprentices) are classified as part-time. In other countries, the remuneration team was asked to list fixed-term and part-time employees.
C155: 2-7d. Report contextual information necessary for understanding the reported data
C156: There is no contextual information sufficient to understand the subject.
C158: 2-7e. Describe significant fluctuations in the number of employees during the reporting period and between reporting periods
C159: Braskem adhered to the headcount plan for the year.

Sheet 2-8
B1: #VALUE! | F1: Table of Contents | G1: Material topics | H1: Environmental | I1: Economic | J1: Governance | K1: Social | L1: GRI | M1: SASB
C3: GRI 2-8 | General Disclosures
A4: Índice | B4: 3
C5: 2-8 Workers who are not employees
C7: 2-8a. Total number of workers who are not employees and whose work is controlled by the organization | H7: 2019 | I7: 2020 | J7: 2021 | K7: 2022 | L7: 2023 | M7: 2024 | N7: 2025
C10: Internships | H10: 449 | I10: 464 | J10: 467 | K10: 457 | L10: 532 | M10: 469 | N10: 408
C11: Men | H11: 198 | I11: 237 | J11: 194 | K11: 210 | L11: 239 | M11: 188 | N11: 174
C12: Women | H12: 251 | I12: 227 | J12: 273 | K12: 247 | L12: 293 | M12: 281 | N12: 234
C14: Brazil | H14: 449 | I14: 464 | J14: 467 | K14: 457 | L14: 532 | M14: 469 | N14: 408
C15: Men | H15: 198 | I15: 237 | J15: 194 | K15: 210 | L15: 239 | M15: 188 | N15: 174
C16: São Paulo | H16: 83 | I16: 90 | J16: 89 | K16: 83 | L16: 86 | M16: 73 | N16: 73
C17: Rio de Janeiro | H17: 27 | I17: 46 | J17: 13 | K17: 32 | L17: 17 | M17: 30 | N17: 19
C18: Bahia | H18: 44 | I18: 39 | J18: 36 | K18: 53 | L18: 67 | M18: 34 | N18: 29
C19: Alagoas | H19: 8 | I19: 7 | J19: 9 | K19: 14 | L19: 8 | M19: 14 | N19: 12
C20: Rio Grande do Sul | H20: 36 | I20: 55 | J20: 47 | K20: 28 | L20: 61 | M20: 37 | N20: 41
C21: Women | H21: 251 | I21: 227 | J21: 273 | K21: 247 | L21: 293 | M21: 281 | N21: 234
... C44: Rio Grande do Sul | H44: 490 | I44: 496 | J44: 628 | K44: 708 | L44: 638 | M44: 595 | N44: 535
C46: The internship positions have roles that are defined by Brazilian Law No. 11.788, dated September 25, 2008. Outsourced workers provide services, mostly industrial.
C48: 2-8b. Methodologies and assumptions used to compile the data
C49: Outsourced workers (regular only) and interns in Brazil were used. These contract types are not reported in indicator 2-7 and were consolidated based on the cut-off date December 31, 2025.
C51: 2-8c. Describe significant fluctuations in the number of workers who are not employees during the reporting period and between reporting periods
C52: There were no significant fluctuations.

Sheet 2-9 à 2-21
B1: #VALUE! | F1: Table of Contents | G1: Material topics | H1: Environmental | I1: Economic | J1: Governance | K1: Social | L1: GRI | M1: SASB
C3: GRI 2-9 to 2-21 | General Disclosures
A4: Índice | B4: 3
C5: 2-9 Governance structure and composition
C7: 2-9a. Governance structure
C8: The Board of Directors, the highest body in the Company's Corporate Governance structure, is composed of 11 effective members and their respective alternates, elected or removed at any time through a General Meeting. Of the 11 members, 20% (3 members) are independent, pursuant to Annex K of CVM Resolution No. 80/2022 and the Global Compliance System Policy. The members of the Board of Directors serve 2-year terms, with their reelection permitted. The Board of Directors also has a Chairman and a Vice Chairman, and the Business Leader (CEO) cannot simultaneously hold the position of Chairman of the Board. In its Corporate Governance structure, the Company also has permanent Advisory Committees of the Board of Directors, those being: Statutory Compliance and Audit Committee, People and Organization Committee, Finance and Investment Committee, and Strategy, Communication and ESG Committee. The Committees deal with matters that support the deliberations of the Board of Directors, according to the duties outlined in their respective Internal Regulations, without the authority to make final decisions on these matters. See more at: https://www.braskem.com.br/governanca-corporativa Finally, the Company has a Statutory Executive Board, currently composed of 5 Executive Officers, including the Business Leader/Chief Executive Officer (CEO) and the Chief Financial and Investor Relations Officer, with a term of office of 3 years, with renewal permitted.
C10: 2-9b. List of committees of the highest governance body, responsible for decision-making and overseeing the management of the organization's impacts on the economy, the environment and people
C11: The Advisory Committees of the Board of Directors are: Statutory Compliance and Audit Committee (CCAE): it is a statutory body, of a permanent nature, governed by the terms of the Resolution of the Brazilian Securities and Exchange Commission (CVM) No. 23/2021, as well as adhering to the rules of the Sarbanes-Oxley Act (SOx), formed by 5 members (three independent directors of the Board of Directors and two external members). Among other topics, the CCAE monitors the Company's compliance system, internal controls and risk management of Braskem, as well as issues related to the internal auditor, related parties, granting of indemnities, and free competition, in addition to supervising the quality and integrity of the financial statements and financial reports. Strategy, Communication and ESG Committee (CECESG): made up of 3 members of the Board of Directors, it is responsible for supporting the Board of Directors in assessing the strategic direction of Braskem, that should align with the sustainable development guidelines of Braskem, as well as for monitoring and assessing the initiatives and goals assumed by the Company with regard to corporate sustainability and ESG criteria. Its attributions include, among others, monitoring ESG aspects present in the strategy and corporate policies regarding the disclosure of information, sustainable development and health, safety, environment, quality and productivity, as well as analyzing and monitoring the Company's communication strategy and shaping its corporate image. Finance and Investment Committee (CFI): comprised of 4 members of the Board of Directors, it analyzes the policies related to financial management, guarantees, investments, dividends and securities trading. In addition to the other responsibilities, it monitors the Company's quarterly results, through the financial statements, focusing on the management analysis of results, participates in investment decisions and monitors the company's financial strategy and the performance of its stocks in the capital market. People and Organization Committee (CPO): comprised of 3 members of the Board of Directors. Among other responsibilities, monitors and reviews strategic policies and projects related to people, in addition to parameters and criteria in relation to the remuneration of administrators. The committees responsible for supporting the Board of Directors in decision-making and overseeing the management of the organization's impacts on the economy, the environment and people are CECESG, CFI and CPO. The compositions of the Board of Directors and its Committees are described in its internal rules, available on the investor relations website. See more at: https://www.braskem-ri.com.br/en/the-company/councils-and-board/
C14: 2-9c. Composition of the highest governance body
C15: Up to the date of publication of the indexes, the composition of the Board of Directors was:
C17: Name | G17: (i) Executive/Non-Executive | H17: (ii) Independent | I17: (iii) Election | J17: (viii) Nomination1
C18: Héctor Nuñez | G18: Non-Executive | H18: No | I18: 04/29/2024 | J18: Novonor
C19: Olavo Bentes David | G19: Non-Executive | H19: No | I19: 11/28/2024 | J19: Petrobras
C20: Carlos Plachta | G20: Non-Executive | H20: Yes | I20: 04/29/2024 | J20: Petrobras
C21: Gesner José de Oliveira Filho | G21: Non-Executive | H21: Yes | I21: 04/29/2024 | J21: Novonor
C22: João Pinheiro Nogueira Batista | G22: Non-Executive | H22: No | I22: 04/29/2024 | J22: Novonor
C23: José Mauro Mettrau Carneiro da Cunha | G23: Non-Executive | H23: Yes | I23: 04/29/2024 | J23: Novonor
C24: Juliana Sá Vieira Baiardi | G24: Non-Executive | H24: No | I24: 04/29/2024 | J24: Novonor
C25: Lucas Cive Barbosa | G25: Non-Executive | H25: No | I25: 11/13/2025 | J25: Novonor
C26: Luiz Eduardo Valente | G26: Non-Executive | H26: No | I26: 45718 | J26: Petrobras
C27: Maurício Dantas Bezerra | G27: Non-Executive | H27: No | I27: 11/28/2024 | J27: Novonor
C28: Paulo Roberto Britto Guimarães | G28: Non-Executive | H28: No | I28: 04/29/2024 | J28: Petrobras
C30: 1 Nomination of shareholders.
C31: (iv) According to Curriculum Vitae available at: https://www.braskem-ri.com.br/en/the-company/councils-and-board/
C32: (v) 1 member identifies as a woman and the others as men
C33: (vi) 11 members identify themselves as white. In addition, the Board of Directors has 10 members who are 50 years old or older.
C34: (vii and viii) According to Curriculum Vitae available at: https://www.braskem-ri.com.br/en/the-company/councils-and-board/, the current composition is 7 members appointed by Novonor, including the Chairman of the Board of Directors, and 4 by Petrobras. The skills, previous professional experience and academic background of each of the members are detailed in their CVs, which can also be found in the Reference Form for 2025.
C36: And the statutory executive board:
C38: Name | G38: Position | I38: Election
C39: Roberto Prisco Paraiso Ramos | G39: CEO | I39: 45303
C40: Felipe Montoro Jens | G40: Chief Financial Officer and Investor Relation Officer | I40: 12/13/2024
C41: Stefan Lanna Lepecki | G41: Officer with no specific designation | I41: 12/13/2024
C42: Nir Lander | G42: Officer with no specific designation | I42: 45664
C43: Geraldo Magela de Moraes Vilaça Netto | G43: Officer with no specific designation | I43: 12/13/2024
C46: 2-10 Nomination and selection of the highest governance body
C48: 2-10a. Nomination and selection processes for the highest governance body and its committees
C49: The General Meeting, in accordance with Article 17, xiv of the Bylaws, is responsible for the election and replacement of the members of the Board of Directors and the Fiscal Council. Article 19 provides that the General Meeting shall define, among the members of the Board of Directors, the Chairman and the Vice Chairman, and may replace them at any time, subject to the provisions of Shareholders' Agreements filed at the Company's headquarters. Article 32 provides that the Executive Board is composed of at least 4 and at most 10 members, with one Chief Executive Officer, elected by the Board of Directors, and removable by it at any time, subject to the provisions of Shareholders' Agreements filed at the Company's headquarters. Finally, the Chairman of the Board of Directors, pursuant to Article 3, ix of the Board of Directors' Bylaws, is responsible for allocating the Directors to compose each of the Committees, as well as appointing the respective coordinators, observing the experience and specific skills of each Director in view of the responsibilities of each Committee, subject to the Shareholders' Agreement. The criteria of diversity and independence, as well as the analysis of curricula for the verification of competencies for the impacts of the organization are considered in the evaluation. The members of the Board of Directors serve a unified term of 2 years, with reelection permitted. The term of office of the Chairman and Vice Chairman is also 2 years, with reelection permitted. According to Article 2, vii of the Internal Regulations of the Board of Directors, it is the responsibility of this body to provide a statement, at the time of convening a Meeting to elect the Company's Directors, regarding whether candidates meet the independence criteria set forth in the Company's policy and Resolution 23/21, when applicable, as well as to assess in the years following the election, whether the Directors declared independent remain adherent to the Company's independence criteria, indicating and justifying any circumstances that may compromise their independence. To this end, the Company's Board of Directors has the support of the CCAE, which is responsible, according to Article 2, xxxiv, of its Internal Rules, for supporting the Board of Directors in assessing the reasons for meeting the independence criteria of candidates for members of the Board of Directors established in the Company's own policy and in accordance with CVM Resolution No. 23, when applicable, at the time of convening a Meeting that will elect them, and, in the years following their election, whether the Directors declared independent remain within the applicable independence criteria, as well as indicate and justify any circumstances that may compromise their independence. The People and Organization Committee evaluates, prior to the appreciation by the Board of Directors, the proposal of LN-Braskem on the composition of the Statutory Executive Board, as well as its possible replacements, according to the provisions of the Internal Regulations of the People and Organization Committee. This Committee also monitors the Succession Plan of the Statutory Executive Board and the Compliance Officer, subject to the Shareholders' Agreement, pursuant to Article 2, xvi, of the Internal Regulations of the People and Organization Committee.
C52: 2-10b. The criteria used for nominating and selecting highest governance body members
C53: As described in the Shareholders' Agreement, in order to nominate members to a certain position, the appointment of the shareholders is considered: "3.1 The Parties undertake to always exercise their respective voting rights at the General Meetings, and to ensure that the members of the Board of Directors, appointed by them, always act in the best interest of the Companies. In addition, the Parties shall exercise their voting rights in corporate resolutions, in order to make the management bodies of the Companies act with independence and loyalty and act with transparency and precision in the disclosures made to the market, in order to promote the appreciation of the Companies' assets and to grant greater security and transparency to other shareholders of Braskem. 3.1.1 The Parties also commit to exercising their voting rights in the election of the members of the Boards of Directors and to ensure that the members elected by them to the Boards of Directors exercise their voting rights in the election of the members of the Executive Board, taking into account the best interests of Braskem, the personal and professional attributes, as well as the technical and administrative capacities of the candidates, as provided for in this Shareholders' Agreement. 3.2.6 The directors appointed by each of the Parties shall be entitled to participate in all committees created by Braskem's Board of Directors, and the accumulation of position in more than one committee is prohibited. The chairman of the Board of Directors of Braskem will be responsible for placing the directors in each of the committees, which will take into account, for this purpose, the experience and specific skills of each Board Member in relation to the responsibilities of each committee."
C55: 2-11 Chair of the highest governance body
...

Sheet 2-22 à 2-30
B1: #VALUE! | F1: Table of Contents | G1: Material topics | H1: Environmental | I1: Economic | J1: Governance | K1: Social | L1: GRI | M1: SASB
C3: GRI 2-22 to 2-30 | General Disclosures
A4: Índice | B4: 3
C5: 2-22 Sustainable Development Strategy
C7: 2-22a. Statement by the chief executive or the highest governance body on the company's sustainability strategy
C8: Statement by the most senior executive and the highest governance body on the Company’s sustainability strategy, as presented in the Chairman of the Board of Directors' and Chief Executive Officer's letter contained in the 2025 Integrated Report (pages 4 to 7).
C10: 2-23 Policy commitments
C12: 2-23a. Policy commitments for the responsible conduct of business
C13: Braskem is part of the United Nations Global Compact and, as such, is a signatory to the 10 principles established by the institution, which derive from the Universal Declaration of Human Rights, the Declaration of the International Labor Organization on Fundamental Principles and Rights at Work, the Rio Declaration on Environment and Development and the United Nations Convention against Corruption. The organizations that become part of the Global Compact are committed to following these principles in their daily operations, and Braskem reinforces this commitment through the Global Sustainable Development Policy, Codes of Conduct for members and third parties, as well as the value proposition to the member. These principles provide us with guidelines for responsible business conduct, which starts with human rights due diligence and the periodic identification of potential risks involving human rights violations, as established by the Global Sustainable Development Policy. Our actions are also guided by the principle of precaution, based on the pillars established by the Responsible Action Program of the chemical industry, promoted by the International Council of Chemistry Associations (ICCA).
C15: 2-23b. Specific policy commitment to respecting human rights
C16: The Board of Directors of Braskem approved its strategy for 2030, which includes the objective of managing 100% of high and medium risks in human rights throughout the value chain. This commitment addresses all the rights contained in the Universal Declaration of Human Rights, the Declaration of the International Labor Organization on Fundamental Principles and Rights at Work, the Rio Declaration on Environment and Development and the United Nations Convention against Corruption rights established by the Universal Declaration of Human Rights. Braskem focuses on areas of its operations that have been identified as most vulnerable according to their due diligence process: surrounding communities, suppliers — especially of ethanol and plastic waste — and members of the company.
C18: 2-23c. Links to the policy commitments, if publicly available
C19: For more information, visit: - The ten principles of the UN Global Compact: https://www.pactoglobal.org.br/10-principios - Braskem's Global Sustainable Development Policy: https://api.mziq.com/mzfilemanager/v2/d/540b55c5-af99-45f7-a772-92665eb948e9/b31a9aa8-a256-f80d-8afb-ecb6434589da?origin=2 - The Global Anti-Corruption Policy: https://api.mziq.com/mzfilemanager/v2/d/540b55c5-af99-45f7-a772-92665eb948e9/81e99950-430b-a05a-aac3-f1655a74c10e?origin=2 - The Code of Conduct for Members: https://api.mziq.com/mzfilemanager/v2/d/540b55c5-af99-45f7-a772-92665eb948e9/da36c8fb-a46e-c0b9-eb63-aa28d8ba1006?origin=2 - The Code of Conduct for Third Parties: https://www.braskem.com/portal/Principal/arquivos/codigo-de-conduta/third-party-code-of-conduct-eng.pdf - Responsible Action Program: https://icca-chem.org/focus/responsible-care/
C21: 2-23d. Level at which each of the policy commitments has been approved within the organization
C22: Adherence to the established commitments was made through the company's chief executive, the CEO. The Policies established to implement the commitments are approved by the Board of Directors, which also approved Braskem's 2030 and 2050 strategy, one of whose objectives is to manage 100% of the risks in human rights, high and medium, considering the entire value chain.
... C89: 2-30 Collective bargaining agreements
H90: 2019 | I90: 2020 | J90: 2021 | K90: 2022 | L90: 2023 | M90: 2024 | N90: 2025
C91: 2-30a. Employees covered by collective bargaining agreements
C93: % Employees covered by collective bargaining agreements | H93: 0.80629924 | I93: 0.80451345 | J93: 0.80386056 | K93: 0.79949239 | L93: 0.79624227 | M93: 0.79479838 | N93: 0.80748208
C94: Brazil | H94: 0.991 | I94: 0.991 | J94: 0.988 | K94: 0.99029724 | L94: 0.99034117 | M94: 0.98998569 | N94: 0.99219372
C95: United States | H95: 0.078896732 | I95: 0.078379581 | J95: 0.084415567 | K95: 0.074608905 | L95: 0.070991432 | M95: 0.069852941 | N95: 0.075351213
C96: Germany | H96: 0 | I96: 0 | J96: 0 | K96: 0 | L96: 0 | M96: 0 | N96: 0
C97: Mexico | H97: 0.417 | I97: 0.406 | J97: 0.442 | K97: 0.45672576 | L97: 0.44251627 | M97: 0.43283582 | N97: 0.45294856
C98: The Netherlands* | H98: 0 | I98: 0 | J98: 0 | K98: 0 | L98: 0 | M98: 0 | N98: 0
C99: Other countries | H99: 0 | I99: 0 | J99: 0 | K99: 0 | L99: 0 | M99: 0 | N99: 0
C101: Number of employees covered by collective bargaining agreements | H101: 6402.016 | I101: 6430.476 | J101: 6681.689 | K101: 6930 | L101: 6823 | M101: 6662 | N101: =SUM(N102:N107) -> 6648
C102: Brazil | H102: 5995.55 | I102: 6033.208 | J102: 6202.664 | K102: 6430 | L102: 6357 | M102: 6228 | N102: 6228
C103: United States | H103: 60.356 | I103: 59.882 | J103: 63.987 | K103: 62 | L103: 58 | M103: 57 | N103: 59
C104: Germany | H104: 0 | I104: 0 | J104: 0 | K104: 0 | L104: 0 | M104: 0 | N104: 0
C105: Mexico | H105: 346.11 | I105: 337.386 | J105: 415.038 | K105: 438 | L105: 408 | M105: 377 | N105: 361
C106: The Netherlands* | H106: 0 | I106: 0 | J106: 0 | K106: 0 | L106: 0 | M106: 0 | N106: 0
C107: Other countries | H107: 0 | I107: 0 | J107: 0 | K107: 0 | L107: 0 | M107: 0 | N107: 0
C109: Number of employees | H109: 7940 | I109: 7993 | J109: 8312 | K109: 8668 | L109: 8569 | M109: 8382 | N109: 8233
C110: Brazil | H110: 6050 | I110: 6088 | J110: 6278 | K110: 6493 | L110: 6419 | M110: 6291 | N110: 6277
C111: United States | H111: 765 | I111: 764 | J111: 758 | K111: 831 | L111: 817 | M111: 816 | N111: 783
C112: Germany | H112: 196 | I112: 151 | J112: 155 | K112: 172 | L112: 178 | M112: 180 | N112: 166
C113: Mexico | H113: 830 | I113: 831 | J113: 939 | K113: 959 | L113: 922 | M113: 871 | N113: 797
C114: The Netherlands* | H114: 65 | I114: 123 | J114: 146 | K114: 177 | L114: 191 | M114: 185 | N114: 172
C115: Other countries | H115: 34 | I115: 36 | J115: 36 | K115: 36 | L115: 42 | M115: 39 | N115: 38
C117: *Information on offices in the Netherlands was presented within the "Other countries" line item until 2021.
...

Sheet 3-1 |3-2 | 3-3
B1: #VALUE! | F1: Table of Contents | G1: Material topics | H1: Environmental | I1: Economic | J1: Governance | K1: Social | L1: GRI | M1: SASB
C3: GRI 3-1 to 3-3 | General Disclosures
A4: Índice | B4: 3
C5: 3-1 Process for determining material topics
C7: 3-1a. Process followed to determine the material topics
C8: In 2022, we updated our materiality matrix to identify topics that are more relevant to our business and consider environmental, social, economic and governance dimensions. This update involved consulting more than 1,200 internal and external stakeholders, including employees, leaders, customers, suppliers and the financial market, as well as direct interviews with 78 leaders, benchmarking of peer companies and the analysis of the main corporate risks and opportunities for the sector. The steps involved in evaluating the materiality were: - Identification of ESG topics - Stakeholder consultation - Risk analysis - Opportunity analysis - Alignment with voluntary commitments - Definition of weights for each attribute - Definition of the matrix and prioritization The study brought as a result more than 500 topics that, after analysis and crossing of data and perceptions raised in the qualitative and quantitative consultations, defined the 21 material topics for Braskem. These topics were aggregated into two different groups, which provide guidance on the type of strategic action to be taken: the value protection group (16) and the value creation group (5). - Value protection: topics whose management of impacts can protect Braskem's tangible and intangible value over time, which preserve and improve the corporate image and mitigate business risks. - Value creation: topics whose management of impacts can create tangible and intangible value for Braskem over time, which generate a competitive advantage from business opportunities and strategic partnerships. All material topics are now addressed directly or indirectly in the company's sustainability pillar — a result that validates Braskem's ambitions and objectives in its long-term agenda.
C23: 3-1b. Stakeholders and experts whose views have informed the process to determine material topics
C24: Stakeholders: Academy, non-profit entities, board of directors, customers, communities, financial market, government, trade associations, investors, suppliers, startup ecosystem, team members and unions; - External references: Global Reporting Initiative (GRI), United Nations Sustainable Development Goals, World Business Council for Sustainable Development, RobecoSAM, Sustainability Accounting Standards Board, S&P Global, World Economic Forum, Ellen MacArthur Foundation.
C26: 3-2 List of material topics
C28: 3-2a. List its material topics
C29: The materiality matrix is considered an essential tool to help guide our organizational path. This matrix suggests the most relevant topics for Braskem's performance in relation to sustainable development and is the foundation of building our long-term goals. It is reviewed every five years—the last one occurring in 2022—and carried out by a consulting company specialized in conducting this type of process. During the review, we selected and reassessed topics in the economic, environmental, social and governance (ESG) categories, using external references(1) to understand the negative and positive impacts of our business model. For this purpose, we consult our internal and external stakeholders, assess corporate risks and opportunities associated with the topics, analyze global and sectoral commitments, and benchmark with companies in the sector. Based on the outcomes, the topics were prioritized, validated by the company's management, including the Board of Directors, resulting in 21 material topics for Braskem and its stakeholders. Topics for value creation (5): Climate Change; Post-consumer Plastics; Governance, Ethics and Compliance; Innovation, technology and digitalization; and Economic and Financial Results. Topics for value protection (16): Biodiversity and Land Use; Air Pollution; Energy Efficiency; Waste Management; Water and Effluent Management; Raw Material Impacts; Diversity, Equity and Inclusion; Communities and Social Investments; Health, Safety and Welfare; Human Rights; Employment, Development and Retention; Responsible Production and Consumption; Product Management; Supply Chain Management; Risk and Opportunity Management; Stakeholder Relationship Management. The previous materiality matrix, created in 2019, included 17 prioritized topics. After the update, we now have 21 topics in total, comprising 16 that were maintained and 5 that were newly added. Added topics include: Innovation, Technology and Digitalization; Biodiversity and Land Use; Diversity, Equity and Inclusion; Employment, Development and Retention; Risk and Opportunity Management; Stakeholder Relationship Management. Management of each topic is reported separately. (1) External references: Stakeholders: Academy, non-profit, board of directors, customers, communities, financial market, government, trade associations, investors, suppliers, startup ecosystem, team members and unions; in addition to sources such as Global Reporting Initiative (GRI), United Nations Sustainable Development Goals, World Business Council for Sustainable Development, RobecoSAM, Sustainability Accounting Standards Board, S&P Global, World Economic Forum, Ellen MacArthur Foundation.
C32: 3-2b. Changes in the list of material topics compared to the previous reporting period
C33: There were no changes in the materiality matrix compared to the previous year.
C35: 3-3 Management of material topics
C37: Biodiversity and land use
... C98: Refers to the increase in greenhouse gas emissions and their consequences for the climate, which put the planet, people and the entire business environment at risk. As a consequence, companies need to adopt strategies to mitigate these effects. This includes reducing greenhouse gas emissions, decarbonization, adopting internal carbon prices, consuming renewable energy, and others. Information can be found in the 2025 Integrated Report on pages 40-48.

Sheet 101
B1: #VALUE! | D1: Table of Contents | E1: Material topics | F1: Environmental | G1: Economic | H1: Governance | I1: Social | J1: GRI | K1: SASB
C3: GRI 101 | Biodiversity
A4: Índice | B4: 3
C5: 101-1 Policies to halt and reverse biodiversity loss
C7: 101-1a. Describe its policies or commitments to halt and reverse biodiversity loss, and how these are informed by the 2050 Goals and 2030 Targets in the Kunming-Montreal Global Biodiversity Framework
C8: In 2025, Braskem introduced its Public Positioning on Biodiversity; a company document dedicated exclusively to the subject. Braskem's Biodiversity Positioning reinforces the adoption of business practices that are not only aligned with the United Nations Sustainable Development Goals, but also incorporate the scientific framework established by the Kunming-Montreal Global Biodiversity Framework. In addition, at the end of 2025, Braskem joined the Brazilian Business Commitment for Biodiversity of CEBDS (Brazilian Business Council for Sustainable Development). Lastly, we emphasize the Responsible Ethanol Purchasing Program (PCRE), which is also public and falls within the scope of our I’m green™ bio-based product line.
C10: 101-1b. Report the extent to which these policies or commitments apply to the organization’s activities and to its business relationships
C11: The Biodiversity Position applies to Braskem S.A. — and therefore to all entities where the company has operational control. The document related to the CEBDS pertains to issues that have a national level of importance in Brazil. Given the nature of its application, the PCRE refers to the ethanol supply chain in our products under the I'm green™ bio-based portfolio.
C13: 101-1c. Report the goals and targets to halt and reverse biodiversity loss, whether they are informed by scientific consensus, the base year, and the indicators used to evaluate progress
C15: As stated in the Positioning and PCRE, the Program’s main goals are protecting and restoring forests and ecosystems, conserving biodiversity and ecosystem services, and reducing climate change impacts. There are a number of sustainability indicators, appropriately documented in our Integrated Report, that address topics recognized by IBPES as direct vectors of biodiversity loss, such as climate change (discussed within our agenda under the section titled "Combating climate change"). Under the Brazilian Business Commitment to Biodiversity of the CEBDS, Braskem is committed to: integrating biodiversity considerations into its business strategy; promoting and strengthening best practices that support the sustainable use of biodiversity and/or ecosystem services; and publicly disclosing the information gathered regarding its areas of operation, in order to contribute to regional biodiversity management and ensure transparency to society. This commitment is published on the CEBDS website as of December 19, 2025, and is available at the corresponding link: https://cebds.org/ibnbio/projetos/
C17: 101-2 Management of biodiversity impacts
C19: 101-2a. Report how the mitigation hierarchy is applied by describing: i. actions taken to avoid negative impacts on biodiversity ii. actions taken to minimize negative impacts on biodiversity that were not avoided iii. actions taken to restore and rehabilitate affected ecosystems, including the goals of the restoration and rehabilitation, and how stakeholders are engaged throughout the restoration and rehabilitation actions iv. actions taken to offset residual negative impacts on biodiversity v. transformative actions taken and additional conservation actions taken
